BEGIN:VCALENDAR
VERSION:2.0
PRODID:-//Brainspotting Austria - ECPv6.15.20//NONSGML v1.0//EN
CALSCALE:GREGORIAN
METHOD:PUBLISH
X-ORIGINAL-URL:https://brainspottingaustria.com/?lang=en
X-WR-CALDESC:Events for Brainspotting Austria
REFRESH-INTERVAL;VALUE=DURATION:PT1H
X-Robots-Tag:noindex
X-PUBLISHED-TTL:PT1H
BEGIN:VTIMEZONE
TZID:Europe/Vienna
BEGIN:DAYLIGHT
TZOFFSETFROM:+0100
TZOFFSETTO:+0200
TZNAME:CEST
DTSTART:20250330T010000
END:DAYLIGHT
BEGIN:STANDARD
TZOFFSETFROM:+0200
TZOFFSETTO:+0100
TZNAME:CET
DTSTART:20251026T010000
END:STANDARD
BEGIN:DAYLIGHT
TZOFFSETFROM:+0100
TZOFFSETTO:+0200
TZNAME:CEST
DTSTART:20260329T010000
END:DAYLIGHT
BEGIN:STANDARD
TZOFFSETFROM:+0200
TZOFFSETTO:+0100
TZNAME:CET
DTSTART:20261025T010000
END:STANDARD
BEGIN:DAYLIGHT
TZOFFSETFROM:+0100
TZOFFSETTO:+0200
TZNAME:CEST
DTSTART:20270328T010000
END:DAYLIGHT
BEGIN:STANDARD
TZOFFSETFROM:+0200
TZOFFSETTO:+0100
TZNAME:CET
DTSTART:20271031T010000
END:STANDARD
END:VTIMEZONE
BEGIN:VEVENT
DTSTART;VALUE=DATE:20261204
DTEND;VALUE=DATE:20261207
DTSTAMP:20260420T174728
CREATED:20260312T154631Z
LAST-MODIFIED:20260317T220754Z
UID:10000104-1796342400-1796601599@brainspottingaustria.com
SUMMARY:Phase 4
DESCRIPTION:If you are a resident of a COUNTRY OUTSIDE THE EUROPEAN UNION\, you can send us an eMail before booking – for an adapted rate to your local standards.  \nThis advanced training includes video analyses of sessions that Dr. Grand has held with clients\, interactive discussions in the first part of the day\, and then instruction on advanced techniques in the second part of the day. \nOn each day of the training\, David Grand will first present a video of a Brainspotting session\, which he will carefully analyze interaction by interaction\, with participants being intensively involved (comments and questions). \nDr. Grand will then introduce various advanced Brainspotting techniques\, including Dreamspotting\, the Expansion Model\, and Bodyspotting. \nEach technique will be taught using a PowerPoint presentation\, a live demonstration\, and a practical exercise for participants. \n  \nTraining Times:\n13:00 – 22:00 CET. Find out here what time this is for your location! \nThe training will be conducted in English and translated consecutively into various languages. \n  \nPrerequisite: Phase 1 training already completed (Phase 2 recommended). \nPrices are differentiated according to three phases:\nLate booking ticket: 4–1 week before the seminar €775\nStandard ticket: 20–4 weeks before the seminar €750\nEarly bird ticket: before that €725 \nRegistration Deadline: December 02!
URL:https://brainspottingaustria.com/event/phase-4/?lang=en
LOCATION:Seminarraum 1140\, Penzinger Straße 48\, Wien\, 1140\, Österreich
CATEGORIES:Phase4,Spezialseminare
ATTACH;FMTTYPE=image/png:https://brainspottingaustria.com/wp-content/uploads/2026/03/Phase4_1226_Flyer_EN_BSP-AT.png
ORGANIZER;CN="Brainspotting Austria":MAILTO:team@brainspottingaustria.com
END:VEVENT
END:VCALENDAR