BEGIN:VCALENDAR
VERSION:2.0
PRODID:-//Brainspotting Austria - ECPv6.15.20//NONSGML v1.0//EN
CALSCALE:GREGORIAN
METHOD:PUBLISH
X-WR-CALNAME:Brainspotting Austria
X-ORIGINAL-URL:https://brainspottingaustria.com/?lang=en
X-WR-CALDESC:Events for Brainspotting Austria
REFRESH-INTERVAL;VALUE=DURATION:PT1H
X-Robots-Tag:noindex
X-PUBLISHED-TTL:PT1H
BEGIN:VTIMEZONE
TZID:Europe/Vienna
BEGIN:DAYLIGHT
TZOFFSETFROM:+0100
TZOFFSETTO:+0200
TZNAME:CEST
DTSTART:20240331T010000
END:DAYLIGHT
BEGIN:STANDARD
TZOFFSETFROM:+0200
TZOFFSETTO:+0100
TZNAME:CET
DTSTART:20241027T010000
END:STANDARD
BEGIN:DAYLIGHT
TZOFFSETFROM:+0100
TZOFFSETTO:+0200
TZNAME:CEST
DTSTART:20250330T010000
END:DAYLIGHT
BEGIN:STANDARD
TZOFFSETFROM:+0200
TZOFFSETTO:+0100
TZNAME:CET
DTSTART:20251026T010000
END:STANDARD
BEGIN:DAYLIGHT
TZOFFSETFROM:+0100
TZOFFSETTO:+0200
TZNAME:CEST
DTSTART:20260329T010000
END:DAYLIGHT
BEGIN:STANDARD
TZOFFSETFROM:+0200
TZOFFSETTO:+0100
TZNAME:CET
DTSTART:20261025T010000
END:STANDARD
END:VTIMEZONE
BEGIN:VEVENT
DTSTART;VALUE=DATE:20251211
DTEND;VALUE=DATE:20251215
DTSTAMP:20260420T171127
CREATED:20250109T112925Z
LAST-MODIFIED:20251110T171847Z
UID:10000078-1765411200-1765756799@brainspottingaustria.com
SUMMARY:Brainspotting with Children + Adolescents ONLINE
DESCRIPTION:If you are a resident of a COUNTRY OUTSIDE THE EUROPEAN UNION\, send us an eMail before booking – for an adapted rate to your local standards.   \nThe international workshop will be conducted in English and interpreted consecutively into various languages (German\, Polish\,..). \nWhat can participants take away from the children and adolescents workshop? \nThe following topics\, among others\, will be covered in theory and practice: \nHow do I explain Brainspotting to children/adolescents?\nProcessing in children\nTreatment in acute situations\nTechnical details\nThe Dual Attunement Framework\nBrainspotting in Institutions\, with Experience Reports from a Children’s Home\nCreative Approaches\nParts Work (Last Day | since 2020)\nVideos are shown and analyzed. There is the possibility of incorporating your own cases in the spirit of live consultation. \n  \nContent \nCourse instructor: Monika Baumann developed the children’s workshop [together with Martha S. Jacobi]. She is regarded in the international Brainspotting community as a leading expert in applying the method with children and babies. For more information\, visit the international website Brainspotting Kids. \nWorkshop Times:\n15:00-21:00 CET. Find out here what time this is for your location! \n(due to the hours per day being less\, this workshop lasts 4 days instead of the usual 3!)  \n  \nRequirements for specialists \nPhase 1 training already completed.\nBy registering\, participants confirm that they are bound by confidentiality and will not make any recordings. \nIf you have already completed the two-day Brainspotting with Children and Adolescents workshop\, you can book the course at half price.\nPayment in installments is possible. Please send us an eMail in both cases.\nPrices increase by €25 in the month leading up to the workshop. Registration Deadline: December 4.
URL:https://brainspottingaustria.com/event/brainspotting-with-kids-12-25/?lang=en
CATEGORIES:Brainspotting mit Kindern und Jugendlichen
ATTACH;FMTTYPE=image/png:https://brainspottingaustria.com/wp-content/uploads/2025/01/brainspotting-kinder_event_website_approved-Logo.png
ORGANIZER;CN="Brainspotting Austria":MAILTO:team@brainspottingaustria.com
LOCATION:https://brainspottingaustria.com/event/brainspotting-with-kids-12-25/?lang=en
END:VEVENT
END:VCALENDAR