BEGIN:VCALENDAR
VERSION:2.0
PRODID:-//Brainspotting Austria - ECPv6.15.20//NONSGML v1.0//EN
CALSCALE:GREGORIAN
METHOD:PUBLISH
X-ORIGINAL-URL:https://brainspottingaustria.com/?lang=en
X-WR-CALDESC:Events for Brainspotting Austria
REFRESH-INTERVAL;VALUE=DURATION:PT1H
X-Robots-Tag:noindex
X-PUBLISHED-TTL:PT1H
BEGIN:VTIMEZONE
TZID:Europe/Vienna
BEGIN:DAYLIGHT
TZOFFSETFROM:+0100
TZOFFSETTO:+0200
TZNAME:CEST
DTSTART:20240331T010000
END:DAYLIGHT
BEGIN:STANDARD
TZOFFSETFROM:+0200
TZOFFSETTO:+0100
TZNAME:CET
DTSTART:20241027T010000
END:STANDARD
BEGIN:DAYLIGHT
TZOFFSETFROM:+0100
TZOFFSETTO:+0200
TZNAME:CEST
DTSTART:20250330T010000
END:DAYLIGHT
BEGIN:STANDARD
TZOFFSETFROM:+0200
TZOFFSETTO:+0100
TZNAME:CET
DTSTART:20251026T010000
END:STANDARD
BEGIN:DAYLIGHT
TZOFFSETFROM:+0100
TZOFFSETTO:+0200
TZNAME:CEST
DTSTART:20260329T010000
END:DAYLIGHT
BEGIN:STANDARD
TZOFFSETFROM:+0200
TZOFFSETTO:+0100
TZNAME:CET
DTSTART:20261025T010000
END:STANDARD
END:VTIMEZONE
BEGIN:VEVENT
DTSTART;VALUE=DATE:20251024
DTEND;VALUE=DATE:20251027
DTSTAMP:20260420T195357
CREATED:20250312T115840Z
LAST-MODIFIED:20251017T170956Z
UID:10000077-1761264000-1761523199@brainspottingaustria.com
SUMMARY:Phase 5
DESCRIPTION:If you are a resident of a COUNTRY OUTSIDE THE EUROPEAN UNION\, send us an eMail before booking – for an adapted rate to your local standards.  \nThe brand-new Brainspotting training with Dr. David Grand includes techniques such as Advanced Gazespotting for existential trauma ✧ Bonding Eye Contact Spot Spotting and Dosing ✧ Double Pointer for memory loss due to head trauma ✧ Advanced Parts Spotting 1 and 2 ✧ Innovative ways to find relevant eye positions (Brainspots). \nTraining Times:\nDay 1+ 2:  13:00 – 22:00 CET. Find out here what time this is for your location! \nDay 3:  12:00 – 21:00 CET (daylight saving) \nThe training will be conducted in English and translated consecutively into various languages. \n  \nPrerequisite: Phase 1 training already completed (Phase 2 recommended). \nThe price for this training increases by €25 in the month leading up to the date. Registration Deadline: October 22nd!
URL:https://brainspottingaustria.com/event/phase5-10-2025/?lang=en
LOCATION:Seminarraum 1140\, Penzinger Straße 48\, Wien\, 1140\, Österreich
CATEGORIES:Phase5,Spezialseminare
ATTACH;FMTTYPE=image/png:https://brainspottingaustria.com/wp-content/uploads/2025/03/Phase5_1025_Flyer_DE.png
ORGANIZER;CN="Brainspotting Austria":MAILTO:team@brainspottingaustria.com
END:VEVENT
END:VCALENDAR