BEGIN:VCALENDAR
VERSION:2.0
PRODID:-//Brainspotting Austria - ECPv6.15.20//NONSGML v1.0//EN
CALSCALE:GREGORIAN
METHOD:PUBLISH
X-WR-CALNAME:Brainspotting Austria
X-ORIGINAL-URL:https://brainspottingaustria.com/?lang=en
X-WR-CALDESC:Events for Brainspotting Austria
REFRESH-INTERVAL;VALUE=DURATION:PT1H
X-Robots-Tag:noindex
X-PUBLISHED-TTL:PT1H
BEGIN:VTIMEZONE
TZID:Europe/Vienna
BEGIN:DAYLIGHT
TZOFFSETFROM:+0100
TZOFFSETTO:+0200
TZNAME:CEST
DTSTART:20240331T010000
END:DAYLIGHT
BEGIN:STANDARD
TZOFFSETFROM:+0200
TZOFFSETTO:+0100
TZNAME:CET
DTSTART:20241027T010000
END:STANDARD
BEGIN:DAYLIGHT
TZOFFSETFROM:+0100
TZOFFSETTO:+0200
TZNAME:CEST
DTSTART:20250330T010000
END:DAYLIGHT
BEGIN:STANDARD
TZOFFSETFROM:+0200
TZOFFSETTO:+0100
TZNAME:CET
DTSTART:20251026T010000
END:STANDARD
BEGIN:DAYLIGHT
TZOFFSETFROM:+0100
TZOFFSETTO:+0200
TZNAME:CEST
DTSTART:20260329T010000
END:DAYLIGHT
BEGIN:STANDARD
TZOFFSETFROM:+0200
TZOFFSETTO:+0100
TZNAME:CET
DTSTART:20261025T010000
END:STANDARD
END:VTIMEZONE
BEGIN:VEVENT
DTSTART;TZID=Europe/Vienna:20250605T160000
DTEND;TZID=Europe/Vienna:20250605T190000
DTSTAMP:20260422T130850
CREATED:20250107T131726Z
LAST-MODIFIED:20250108T091011Z
UID:10000044-1749139200-1749150000@brainspottingaustria.com
SUMMARY:Webinar - Annalisa Neumeyer | Brainspotting and Magic
DESCRIPTION:Contents \nAnnalisa Neumeyer shares her expertise on therapeutic magic in this extended webinar. The use of magic on the Brainspot serves as a guide to deep processing. After attending her seminars and lectures\, Monika Baumann was so enthusiastic about how magically Annalisa Neumeyer’s tricks can be incorporated into profound Brainspotting processing with young and old. \nParticipants can expect: Three inspiring hours learning special magic tricks that are perfect for use with Brainspotting. Practical exercises and interactive sessions help you immediately apply the techniques you learn. Unique collaboration with an experienced hypnotherapist who will turn these learning sessions into “magic moments”. \nThe webinar will be held in German and translated into English. Find your Time Zone here. \n  \nAbout the speaker:\nAnnalisa Neumeyer is known in the German-speaking world for therapeutic magic and skillfully combines magical elements with proven therapeutic methods. You can find more information about her work here. \n  \nCourse:\nDuring a webinar\, you have the opportunity to ask questions. \nDuration:\napprox. 180 minutes\nIf you have missed a webinar\, you can purchase the recording here if you want to watch it later. \nPrerequisite for professionals\nAlready completed Phase 1 seminar and internet-enabled device with video function (laptop\, tablet\, cell phone\, etc.)\nThese short units are mainly used to consolidate knowledge already acquired.\nNo continuing education points are awarded. \nPrerequisite for professionals:\nHave already completed Brainspotting Phase 1 training and internet-enabled device with video function (laptop\, tablet\, cell phone\, etc.) These short units serve mainly to deepen knowledge already acquired.No further training points are awarded.
URL:https://brainspottingaustria.com/event/webinar-annalisa-neumeyer-brainspotting-and-magic/?lang=en
CATEGORIES:Webinars
ATTACH;FMTTYPE=image/png:https://brainspottingaustria.com/wp-content/uploads/2025/01/Web-Zaubern_3-2.png
ORGANIZER;CN="Brainspotting Austria":MAILTO:team@brainspottingaustria.com
END:VEVENT
END:VCALENDAR