BEGIN:VCALENDAR
VERSION:2.0
PRODID:-//Brainspotting Austria - ECPv6.15.20//NONSGML v1.0//EN
CALSCALE:GREGORIAN
METHOD:PUBLISH
X-WR-CALNAME:Brainspotting Austria
X-ORIGINAL-URL:https://brainspottingaustria.com
X-WR-CALDESC:Veranstaltungen für Brainspotting Austria
REFRESH-INTERVAL;VALUE=DURATION:PT1H
X-Robots-Tag:noindex
X-PUBLISHED-TTL:PT1H
BEGIN:VTIMEZONE
TZID:Europe/Vienna
BEGIN:DAYLIGHT
TZOFFSETFROM:+0100
TZOFFSETTO:+0200
TZNAME:CEST
DTSTART:20240331T010000
END:DAYLIGHT
BEGIN:STANDARD
TZOFFSETFROM:+0200
TZOFFSETTO:+0100
TZNAME:CET
DTSTART:20241027T010000
END:STANDARD
BEGIN:DAYLIGHT
TZOFFSETFROM:+0100
TZOFFSETTO:+0200
TZNAME:CEST
DTSTART:20250330T010000
END:DAYLIGHT
BEGIN:STANDARD
TZOFFSETFROM:+0200
TZOFFSETTO:+0100
TZNAME:CET
DTSTART:20251026T010000
END:STANDARD
BEGIN:DAYLIGHT
TZOFFSETFROM:+0100
TZOFFSETTO:+0200
TZNAME:CEST
DTSTART:20260329T010000
END:DAYLIGHT
BEGIN:STANDARD
TZOFFSETFROM:+0200
TZOFFSETTO:+0100
TZNAME:CET
DTSTART:20261025T010000
END:STANDARD
BEGIN:DAYLIGHT
TZOFFSETFROM:+0100
TZOFFSETTO:+0200
TZNAME:CEST
DTSTART:20270328T010000
END:DAYLIGHT
BEGIN:STANDARD
TZOFFSETFROM:+0200
TZOFFSETTO:+0100
TZNAME:CET
DTSTART:20271031T010000
END:STANDARD
END:VTIMEZONE
BEGIN:VEVENT
DTSTART;VALUE=DATE:20250914
DTEND;VALUE=DATE:20250919
DTSTAMP:20260420T225525
CREATED:20240818T115219Z
LAST-MODIFIED:20241016T175458Z
UID:10000025-1757808000-1758239999@brainspottingaustria.com
SUMMARY:Brainspotting – Intensiv
DESCRIPTION:​10 Behandler*innen arbeiten 5 Tage lang eng gemeinsam; \neinmal als Behandler*in und einmal als Klient*in\, immer mit der Trainerin als Co-Therapeutin. \nDie Prozesse werden genau analysiert\, wodurch sowohl emotional als auch technisch Brainspotting aus einer ganz speziellen Perspektive gelehrt und erfahren wird. \nVoraussetzung: Bereits absolviertes Phase 1 | Phase 2 Seminar ausdrücklich empfohlen\nAlle Details zu Voraussetzungen und Bedingungen finden Sie hier. \n \nDie Teilnahme wird mit 40 Fortbildungseinheiten anerkannt (BÖP\, ÖBVP). \nSeminarzeiten: ca. 09:30 – 18:00 Uhr\n(Mittagspause von meist ca. 90 Minuten\, dem Seminarverlauf nach flexibel)
URL:https://brainspottingaustria.com/event/brainspotting-intensiv-sept-2025/
LOCATION:Häuplhof\, Mühlbach 1\, Attersee am Attersee\, 4864\, Österreich
CATEGORIES:Brainspotting Intensiv
ATTACH;FMTTYPE=image/jpeg:https://brainspottingaustria.com/wp-content/uploads/2024/07/brainspotting-intensiv-scaled.jpg
ORGANIZER;CN="Brainspotting Austria":MAILTO:team@brainspottingaustria.com
END:VEVENT
BEGIN:VEVENT
DTSTART;VALUE=DATE:20251024
DTEND;VALUE=DATE:20251027
DTSTAMP:20260420T225525
CREATED:20250312T115840Z
LAST-MODIFIED:20250728T095226Z
UID:10000055-1761264000-1761523199@brainspottingaustria.com
SUMMARY:Phase 5
DESCRIPTION:Das brandneue Brainspotting-Seminar mit Dr. David Grand beinhaltet Techniken wie Fortgeschrittenes Gazespotting bei existenziellen Traumata ✧ Bindungs-Augenkontakt-Spot Spotting und Dosieren ✧ Doppel-Pointer bei Gedächtnisverlust durch Kopftrauma ✧ Fortgeschrittenes Teile-Spotting 1 und 2 ✧ Innovative Wege zum Auffinden relevanter Augenpositionen (Brainspots). \nSeminarzeiten:\nTag 1+ 2:  13:00 – 22:00 Uhr\nTag 3:  12:00 – 21:00 Uhr (Zeitumstellung) \nFür eine Teilnahme Vor-Ort:\nHier nehmen Sie mit einer kleinen Gruppe (mit Monika Baumann / Brainspotting Austria Supervisor*innen) in Wien teil.\nDavid Grand schaltet sich live aus New York zu. \nDas Seminar wird auf Englisch gehalten und live ins Deutsche übersetzt. \nVoraussetzung: bereits absolviertes Phase1 Seminar (Phase2 empfohlen). \n  \nVorbereitungstreffen am 29. September\, 16:30-18:00 Uhr\nVermerken Sie bei der Buchung – im Feld für Anmerkungen – wenn Sie daran teilnehmen wollen!\n\n\nBei diesem Online-Termin bereiten Sie sich gemeinsam mit Monika Baumann auf die Inhalte vor – und widmen sich zudem einigen thematischen Fragen\, die David im Seminar aufwirft.\nIhre Gedanken und Rückmeldungen leiten wir dann direkt an David weiter\, sodass er sie in seine Ausführungen einbauen kann.\n\n  \n\nDas Seminar wird vom Berufsverband Österreichischer PsychologInnen (BÖP) und vom ÖBVP  mit 27 Fortbildungseinheiten anerkannt.\n \nDer Preis für dieses Seminar erhöht sich im letzten Monat vor dem Termin um 25€.
URL:https://brainspottingaustria.com/event/phase5-10-2025/
LOCATION:Seminarraum 1140\, Penzinger Straße 48\, Wien\, 1140\, Österreich
CATEGORIES:Phase5,Spezialseminare
ATTACH;FMTTYPE=image/png:https://brainspottingaustria.com/wp-content/uploads/2025/03/Phase5_1025_Flyer_DE.png
ORGANIZER;CN="Brainspotting Austria":MAILTO:team@brainspottingaustria.com
END:VEVENT
BEGIN:VEVENT
DTSTART;VALUE=DATE:20251211
DTEND;VALUE=DATE:20251215
DTSTAMP:20260420T225525
CREATED:20250109T112925Z
LAST-MODIFIED:20250307T110637Z
UID:10000045-1765411200-1765756799@brainspottingaustria.com
SUMMARY:Brainspotting mit Kindern + Jugendlichen ONLINE
DESCRIPTION:Das internationale Seminar wird auf Englisch gehalten und live übersetzt ins Deutsche. \n(Seminartermin ursprünglich für 07. – 10. Oktober geplant und aufgrund des Phase5 Seminars verschoben) \nWas können Teilnehmende vom Kinder und Jugendlichen Seminar mitnehmen? \nTheoretisch wie praktisch werden u.a. folgende Themen erarbeitet: \nWie erkläre ich Kindern/Jugendlichen Brainspotting\nProzessieren bei Kindern\nBehandlung in Akutsituationen\nTechnische Details\nDer Dual-Attunement-Rahmen\nBrainspotting in Institutionen\, mit Erfahrungsberichten aus einem Kinderheim\nKreative Zugänge\nTeilearbeit (Letzter Tag | seit 2020)\nEs werden Videos gezeigt & analysiert. Es gibt die Möglichkeit\, eigene Fälle im Sinne einer Live-Supervision einzubauen. \n  \nInhalt \nKursleiterin: Monika Baumann hat [einst gemeinsam mit Martha S. Jacobi] das Kinderseminar entwickelt. Sie ist in der internationalen Brainspotting-Community als führende Expertin im Anwenden der Methode mit Kindern und Babys angesehen. Mehr dazu auf der internationalen Webseite Brainspotting Kids. \nDie Teilnahme wird mit 30 Fortbildungseinheiten anerkannt (BÖP\, ÖBVP). \n  \n\nNachbetreuung: \n\n\nIm Anschluss an die Kinder und Jugendlichen Weiterbildung bieten wir Absolvent*innen ein eineinhalbstündiges Online-Arbeitstreffen sowie eine Teilnahme am nächsten Reflektierenden Team kostenlos an.\n\nDiese Nachbetreuungstermine von Brainspotting Austria helfen Teilnehmer*innen\, das Gelernte aus dem Seminar gut in die Praxis zu integrieren. Die Termine sind obligatorische Teile des Kurses.\n\n\n\n\n\n\n\nAblauf \nSeminarzeiten:\n15:00-21:00 Uhr CEST \nNachbesprechung: \n22. Dez.\, 16:30 – 18:00 Uhr \nTeilnahme Reflektierendes Team:\n26. Jän.\, 16:30 bis 19:00 Uhr \n  \nVoraussetzung für Fachkräfte \nBereits absolviertes Phase 1 Seminar\nAlle Details zu Voraussetzungen und Bedingungen finden Sie hier.\nAnwesende bestätigen mit der Anmeldung\, dass sie der Schweigepflicht unterstehen und keinerlei Aufnahmen tätigen. \nWenn Sie noch das zweitägige Seminar Brainspotting mit Kinder und Jugendlichen absolviert haben\, können Sie den Kurs zum halben Preis buchen.\nRatenzahlungen sind möglich. Schreiben Sie uns für beide Fälle bitte eine eMail!\nPreise erhöhen sich im letzten Monat vor einem Seminar um €25.
URL:https://brainspottingaustria.com/event/brainspotting-mit-kindern-jugendlichen-12-25/
CATEGORIES:Brainspotting mit Kindern und Jugendlichen
ATTACH;FMTTYPE=image/jpeg:https://brainspottingaustria.com/wp-content/uploads/2024/07/brainspotting-kinder-scaled.jpg
ORGANIZER;CN="Brainspotting Austria":MAILTO:team@brainspottingaustria.com
LOCATION:https://brainspottingaustria.com/event/brainspotting-mit-kindern-jugendlichen-12-25/
END:VEVENT
BEGIN:VEVENT
DTSTART;VALUE=DATE:20260121
DTEND;VALUE=DATE:20260123
DTSTAMP:20260420T225525
CREATED:20250109T125837Z
LAST-MODIFIED:20260204T180226Z
UID:10000047-1768953600-1769126399@brainspottingaustria.com
SUMMARY:Brainspotting mit Kindern + Jugendlichen ADVANCED
DESCRIPTION:Vortragssprache Englisch. | Held in English.  \nWas lernen Teilnehmende im Advanced Kinder und Jugendlichen Seminar? \n\nRepetition\nUse of Brainspotting during different developmental stages\nIdentify post-traumatic growth after applying Brainspotting\nCreativity to process deeper with the attitude of W.A.I.T (Drawing on the Brainspot)\nWhat is in your Mind is in Your Body (integrating body postures as a way of processing)\nHandling acute crises with the Young Ones\nMore creativity to process deeper with the attitude of W.A.I.T\nMore ways of Parts Work with children and adolescents\nExternalizing – another way of parts work!\nMagic Trick with Parts work\nExamine ways to connect with the inner child and how to take it into the future\nFinal Q & A\, Close Training\n\nEs werden Videos gezeigt & analysiert. Es gibt die Möglichkeit\, eigene Fälle im Sinne einer Live-Supervision einzubauen. \n  \nInhalt \nKursleiterin: Monika Baumann hat [einst gemeinsam mit Martha S. Jacobi] das Kinderseminar entwickelt. Sie ist in der internationalen Brainspotting-Community als führende Expertin im Anwenden der Methode mit Kindern und Babys angesehen. Mehr dazu auf der internationalen Webseite Brainspotting Kids. \n\nDie Teilnahme wird mit 30 Fortbildungseinheiten anerkannt (BÖP\, ÖBVP – Zertifikatausstellung bis maximal 3 Fehleinheiten!)\n\n\nAblauf \nOnline-Termine\, immer Mittwochs 16:00 – 20:00 Uhr\, über 6 Monate verteilt. | Short online training sessions\, always on Wednesdays 16:00 – 20:00\, over  the course of 6 months.  \n2026: 21. Jänner / 11. Februar / 11. März / 08. April / 06. Mai / 10. Juni \n  \n  \nVoraussetzung für Fachkräfte \nVoraussetzung: bereits absolviertes Seminar „Brainspotting mit Kindern/Jugendlichen“ mit Monika Baumann [und/oder Martha Jacobi]\nPrerequisite: already completed training „Brainspotting with children/adolescents“ with Monika Baumann [and/or Martha Jacobi]. \nAlle Details zu Voraussetzungen und Bedingungen finden Sie hier.\nAnwesende bestätigen mit der Anmeldung\, dass sie der Schweigepflicht unterstehen und keinerlei Aufnahmen tätigen.\n \nDer Buchungspreis erhöht sich im letzten Monat vor dem Seminar. ANMELDESCHLUSS: 14. JÄNNER
URL:https://brainspottingaustria.com/event/brainspotting-mit-kindern-jugendlichen-advanced-01-26/
CATEGORIES:Brainspotting mit Kindern und Jugendlichen
ATTACH;FMTTYPE=image/jpeg:https://brainspottingaustria.com/wp-content/uploads/2024/07/brainspotting-kinder-scaled.jpg
ORGANIZER;CN="Brainspotting Austria":MAILTO:team@brainspottingaustria.com
LOCATION:https://brainspottingaustria.com/event/brainspotting-mit-kindern-jugendlichen-advanced-01-26/
END:VEVENT
BEGIN:VEVENT
DTSTART;VALUE=DATE:20260427
DTEND;VALUE=DATE:20260502
DTSTAMP:20260420T225525
CREATED:20250606T102436Z
LAST-MODIFIED:20250908T105148Z
UID:10000064-1777248000-1777679999@brainspottingaustria.com
SUMMARY:Brainspotting – Intensiv
DESCRIPTION:​10 Behandler*innen arbeiten 5 Tage lang eng gemeinsam; \neinmal als Behandler*in und einmal als Klient*in\, immer mit der Trainerin als Co-Therapeutin. \nDie Prozesse werden genau analysiert\, wodurch sowohl emotional als auch technisch Brainspotting aus einer ganz speziellen Perspektive gelehrt und erfahren wird. \nVoraussetzung: Bereits absolviertes Phase 1 | Phase 2 Seminar ausdrücklich empfohlen\nAlle Details zu Voraussetzungen und Bedingungen finden Sie hier. \n \nDie Teilnahme wird mit 40 Fortbildungseinheiten anerkannt (BÖP\, ÖBVP). \nSeminarzeiten: ca. 09:30 – 18:00 Uhr\n(Mittagspause von meist ca. 90 Minuten\, dem Seminarverlauf nach flexibel)
URL:https://brainspottingaustria.com/event/brainspotting-intensiv-04-26/
LOCATION:Häuplhof\, Mühlbach 1\, Attersee am Attersee\, 4864\, Österreich
CATEGORIES:Brainspotting Intensiv
ATTACH;FMTTYPE=image/jpeg:https://brainspottingaustria.com/wp-content/uploads/2024/07/brainspotting-intensiv-scaled.jpg
ORGANIZER;CN="Brainspotting Austria":MAILTO:team@brainspottingaustria.com
END:VEVENT
BEGIN:VEVENT
DTSTART;VALUE=DATE:20260626
DTEND;VALUE=DATE:20260629
DTSTAMP:20260420T225525
CREATED:20251212T111003Z
LAST-MODIFIED:20251212T111614Z
UID:10000092-1782432000-1782691199@brainspottingaustria.com
SUMMARY:Kinder und Jugendliche - Wien (Boje)
DESCRIPTION:Doppelbuchung – nur im Paket mit dem Phase 1 Seminar im April – direkt bei der Boje (hier) ! \n(Das Seminarpaket ist ausschließlich auf der Webseite des Traumazentrums Boje buchbar.)  \n  \nAblauf \nSeminarzeiten:\nFr: 13:30 – 20:30\nSa und So: 08:30 – 17:30 \nNachbesprechungs-Webinar: \n02. Juli\, 16:30 – 18:00 Uhr\nTeilnahme Reflektierendes Team:\n29. Sept.\, 16:30 – 19:00 Uhr  \nPreis: pro Seminar 750€\, gesamt 1.500€ (Zahlung in zwei Raten möglich)\n\nBUCHUNG und sämtliche INFOS finden Sie HIER auf der Webseite der Boje!  \n\n\nDie Teilnahme wird mit 30 Fortbildungseinheiten anerkannt (BÖP\, ÖBVP – Zertifikatausstellung bis maximal 3 Fehleinheiten!)
URL:https://brainspottingaustria.com/event/kinder-und-jugendliche-0626-boje/
LOCATION:Die Boje (Ambulatorium)\, Hernalser Hauptstraße 15 (im Hof)\, Wien\, Wien\, 1170\, Austria
CATEGORIES:Brainspotting mit Kindern und Jugendlichen
ATTACH;FMTTYPE=image/jpeg:https://brainspottingaustria.com/wp-content/uploads/2024/07/brainspotting-kinder-scaled.jpg
ORGANIZER;CN="Brainspotting Austria":MAILTO:team@brainspottingaustria.com
END:VEVENT
BEGIN:VEVENT
DTSTART;VALUE=DATE:20260910
DTEND;VALUE=DATE:20260913
DTSTAMP:20260420T225525
CREATED:20250707T170135Z
LAST-MODIFIED:20251028T111247Z
UID:10000073-1788998400-1789257599@brainspottingaustria.com
SUMMARY:Kinder und Jugendliche - Wien
DESCRIPTION:Nachbesprechung: 05. Okt.\, 17:00 Uhr || Reflektierendes Team: 09. Dez.\, 16:30 Uhr \nWas können Teilnehmende vom Kinderseminar mitnehmen? \nTheoretisch wie praktisch werden u.a. folgende Themen erarbeitet: \nWie erkläre ich Kindern/Jugendlichen Brainspotting\nProzessieren bei Kindern\nBehandlung in Akutsituationen\nTechnische Details\nDer Dual-Attunement-Rahmen\nBrainspotting in Institutionen\, mit Erfahrungsberichten aus einem Kinderheim\nKreative Zugänge\nTeilearbeit (Letzter Tag | seit 2020)\nEs werden Videos gezeigt & analysiert. Es gibt die Möglichkeit\, eigene Fälle im Sinne einer Live-Supervision einzubauen. \nDas Seminarmaterial umfasst einen Pointer plus Fingerpuppenaufsatz\, Holzlöffel. \nDie Teilnahme wird mit 30 Fortbildungseinheiten anerkannt (BÖP\, ÖBVP – Zertifikatausstellung bis maximal 3 Fehleinheiten!) \n  \nInhalt \nKursleiterin: Monika Baumann hat [einst gemeinsam mit Martha S. Jacobi] das Kinderseminar entwickelt. Sie ist in der internationalen Brainspotting-Community als führende Expertin im Anwenden der Methode mit Kindern und Babys angesehen. Mehr dazu auf der internationalen Webseite Brainspotting Kids. ​ \n\n\nNachbetreuung: \n\n\nIm Anschluss an die Kinder und Jugendlichen-Weiterbildung helfen ein 90-minütiges Arbeitstreffen sowie die Teilnahme am nächsten Reflektierenden Team den Teilnehmer*innen\, das Gelernte aus dem Kinderseminar gut in die Praxis zu integrieren. Diese Online-Nachbetreuungstermine von Brainspotting Austria sind verpflichtender Teil des Kurses und im Seminarpreis inkludiert.\n\n\n\n\n  \n\nAblauf \nSeminarzeiten: 08:30 – 12:30 und 14:00 – 17:30 Uhr \nNachbesprechungs-Webinar: \n05. Okt.\, 17:00 – 18:30 Uhr\nTeilnahme Reflektierendes Team:\n09. Dez.\, 16:30 – 19:00 Uhr \n  \nPreise sind zeitlich in drei Phasen gestaffelt: \n\nSpätbuchungs-Ticket: 4 – 1 Woche vor dem Seminar 775€\nStandard-Ticket: 16 – 4 Wochen vor dem Seminar 750€\nFrühbuchungs-Ticket: davor 725€\n\n  \nVoraussetzung für Fachkräfte \nBereits absolviertes Phase 1 Seminar. Alle Details zu Voraussetzungen und Bedingungen finden Sie hier.\nAnwesende bestätigen mit der Anmeldung\, dass sie der Schweigepflicht unterstehen und keinerlei Aufnahmen tätigen. \nWenn Ihre Brainspotting-Ausbildung noch das zweitägige Kinderseminar umfasst hat\, können Sie den Kurs zum halben Preis buchen. Ratenzahlungen sind möglich. Schreiben Sie uns für beide Fälle bitte eine eMail!
URL:https://brainspottingaustria.com/event/kiju-sept-26/
LOCATION:Seminarraum 1140\, Penzinger Straße 48\, Wien\, 1140\, Österreich
CATEGORIES:Brainspotting mit Kindern und Jugendlichen
ATTACH;FMTTYPE=image/jpeg:https://brainspottingaustria.com/wp-content/uploads/2024/07/brainspotting-kinder-scaled.jpg
ORGANIZER;CN="Brainspotting Austria":MAILTO:team@brainspottingaustria.com
END:VEVENT
BEGIN:VEVENT
DTSTART;VALUE=DATE:20260914
DTEND;VALUE=DATE:20260919
DTSTAMP:20260420T225525
CREATED:20250606T102655Z
LAST-MODIFIED:20250606T102655Z
UID:10000065-1789344000-1789775999@brainspottingaustria.com
SUMMARY:Brainspotting – Intensiv
DESCRIPTION:​10 Behandler*innen arbeiten 5 Tage lang eng gemeinsam; \neinmal als Behandler*in und einmal als Klient*in\, immer mit der Trainerin als Co-Therapeutin. \nDie Prozesse werden genau analysiert\, wodurch sowohl emotional als auch technisch Brainspotting aus einer ganz speziellen Perspektive gelehrt und erfahren wird. \nVoraussetzung: Bereits absolviertes Phase 1 | Phase 2 Seminar ausdrücklich empfohlen\nAlle Details zu Voraussetzungen und Bedingungen finden Sie hier. \n \nDie Teilnahme wird mit 40 Fortbildungseinheiten anerkannt (BÖP\, ÖBVP). \nSeminarzeiten: ca. 09:30 – 18:00 Uhr\n(Mittagspause von meist ca. 90 Minuten\, dem Seminarverlauf nach flexibel)
URL:https://brainspottingaustria.com/event/brainspotting-intensiv-09-26/
LOCATION:Häuplhof\, Mühlbach 1\, Attersee am Attersee\, 4864\, Österreich
CATEGORIES:Brainspotting Intensiv
ATTACH;FMTTYPE=image/jpeg:https://brainspottingaustria.com/wp-content/uploads/2024/07/brainspotting-intensiv-scaled.jpg
ORGANIZER;CN="Brainspotting Austria":MAILTO:team@brainspottingaustria.com
END:VEVENT
BEGIN:VEVENT
DTSTART;VALUE=DATE:20260930
DTEND;VALUE=DATE:20261003
DTSTAMP:20260420T225525
CREATED:20260312T122626Z
LAST-MODIFIED:20260312T123941Z
UID:10000099-1790726400-1790985599@brainspottingaustria.com
SUMMARY:Brainspotting mit Kindern + Jugendlichen ADVANCED (Deutsch)
DESCRIPTION:Was lernen Teilnehmende im fortgeschrittenen Advanced (erstmals auf Deutsch!) zur Arbeit mit Kindern und Jugendlichen? \n\nWiederholung\nAnwendung von Brainspotting in verschiedenen Entwicklungsstadien\nIdentifizieren von posttraumatischem Wachstum nach Anwendung von Brainspotting\nKreativität für eine tiefere Verarbeitung mit der W.A.I.T.-Haltung (Zeichnen auf dem Brainspot)\nWas in deinem Geist ist\, ist auch in deinem Körper (Integration von Körperhaltungen als Mittel zur Verarbeitung)\nUmgang mit akuten Krisen bei den Kleinen\nMehr Kreativität für eine tiefere Verarbeitung mit der W.A.I.T.-Haltung\nWeitere Möglichkeiten der Teilearbeit mit Kindern und Jugendlichen\nzusätzliche Einsatzmöglichkeiten der Teilearbeit (Externalisierung\, Zaubertrick)\nWege zur Verbindung mit dem inneren Kind und dessen Einbindung in die Zukunft erkunden\n\nEs werden Videos gezeigt & analysiert. Es gibt die Möglichkeit\, eigene Fälle im Sinne einer Live-Supervision einzubauen. \n  \nInhalt \nKursleiterin: Monika Baumann hat [einst gemeinsam mit Martha S. Jacobi] das Kinderseminar entwickelt. Sie ist in der internationalen Brainspotting-Community als führende Expertin im Anwenden der Methode mit Kindern und Babys angesehen. Mehr dazu auf der internationalen Webseite Brainspotting Kids. \nDie Teilnahme wird mit 30 Fortbildungseinheiten anerkannt (BÖP\, ÖBVP – Zertifikatausstellung bis maximal 3 Fehleinheiten!)\n\nAblauf \nSeminarzeiten: 08:30 – 12:30 und 14:00 – 17:30 Uhr \nPreise sind zeitlich in drei Phasen gestaffelt:  \nSpätbuchungs-Ticket: 4 – 1 Woche vor dem Seminar 775€ \nStandard-Ticket: 16 – 4 Wochen vor dem Seminar 750€ \nFrühbuchungs-Ticket: davor 725€ \n  \nVoraussetzung für Fachkräfte \nVoraussetzung: bereits absolviertes Seminar „Brainspotting mit Kindern/Jugendlichen“ mit Monika Baumann [und/oder Martha Jacobi] \nAlle Details zu Voraussetzungen und Bedingungen finden Sie hier.\nAnwesende bestätigen mit der Anmeldung\, dass sie der Schweigepflicht unterstehen und keinerlei Aufnahmen tätigen.\n \nANMELDESCHLUSS: 22. SEPTEMBER
URL:https://brainspottingaustria.com/event/brainspotting-mit-kindern-jugendlichen-advanced-fortgeschritten/
LOCATION:Seminarraum 1140\, Penzinger Straße 48\, Wien\, 1140\, Österreich
CATEGORIES:Brainspotting mit Kindern und Jugendlichen
ATTACH;FMTTYPE=image/png:https://brainspottingaustria.com/wp-content/uploads/2025/01/brainspotting-kinder_event_website_approved-Logo_stars.png
ORGANIZER;CN="Brainspotting Austria":MAILTO:team@brainspottingaustria.com
END:VEVENT
BEGIN:VEVENT
DTSTART;VALUE=DATE:20261204
DTEND;VALUE=DATE:20261207
DTSTAMP:20260420T225525
CREATED:20251218T175525Z
LAST-MODIFIED:20260312T153952Z
UID:10000098-1796342400-1796601599@brainspottingaustria.com
SUMMARY:Phase 4
DESCRIPTION:Dieses Fortgeschrittenentraining umfasst Videoanalysen von Sitzungen\, die Dr. Grand mit Klient*innen gehalten hat\, interaktive Diskussionen im ersten Tagesteil und anschließend Unterricht zu fortgeschrittenen Techniken im zweiten Tagesteil. \nAn jedem Seminartag wird David Grand zuerst ein Video einer Brainspotting-Sitzung präsentieren\, das er sorgfältig Interaktion für Interaktion analysiert\, wobei Teilnehmende intensiv einbezogen werden (Kommentare und Fragen). \nIm Anschluss daran wird Dr. Grand verschiedene fortgeschrittene Brainspotting-Techniken vorstellen\, darunter Dreamspotting\, das Expansionsmodell und Bodyspotting. \nJede Technik wird mit einer PowerPoint-Präsentation\, einer Live-Demonstration und einer praktischen Übung für die Teilnehmer*innen vermittelt. \n  \nSeminarzeiten:\n13:00 – 22:00 Uhr\nDer späte Beginn liegt an der Zeitverschiebung nach New York\, von wo David Grand am Zoom-Meeting teilnimmt. \nFür eine Teilnahme Vor-Ort:\nHier nehmen Sie mit einer kleinen Gruppe (mit Monika Baumann / Brainspotting Austria Supervisor*innen) in Wien teil. \nDas Seminar wird auf Englisch gehalten und live ins Deutsche übersetzt. \nVoraussetzung: bereits absolviertes Phase1 Seminar (Phase2 empfohlen). \n  \nPreise sind zeitlich in drei Phasen gestaffelt: \n\nSpätbuchungs-Ticket: 4 – 1 Woche vor dem Seminar 775€\nStandard-Ticket: 20 – 4 Wochen vor dem Seminar 750€\nFrühbuchungs-Ticket: davor 725€\n\n\n  \n\nDas Seminar wird vom Berufsverband Österreichischer PsychologInnen (BÖP) und vom ÖBVP  mit 27 Fortbildungseinheiten anerkannt. 
URL:https://brainspottingaustria.com/event/phase-4-1226/
LOCATION:Seminarraum 1140\, Penzinger Straße 48\, Wien\, 1140\, Österreich
CATEGORIES:Phase4,Spezialseminare
ATTACH;FMTTYPE=image/png:https://brainspottingaustria.com/wp-content/uploads/2025/12/Phase4_1226_Flyer_DE_v1.png
ORGANIZER;CN="Brainspotting Austria":MAILTO:team@brainspottingaustria.com
END:VEVENT
END:VCALENDAR