BEGIN:VCALENDAR
VERSION:2.0
PRODID:-//Brainspotting Austria - ECPv6.15.20//NONSGML v1.0//EN
CALSCALE:GREGORIAN
METHOD:PUBLISH
X-ORIGINAL-URL:https://brainspottingaustria.com
X-WR-CALDESC:Veranstaltungen für Brainspotting Austria
REFRESH-INTERVAL;VALUE=DURATION:PT1H
X-Robots-Tag:noindex
X-PUBLISHED-TTL:PT1H
BEGIN:VTIMEZONE
TZID:Europe/Vienna
BEGIN:DAYLIGHT
TZOFFSETFROM:+0100
TZOFFSETTO:+0200
TZNAME:CEST
DTSTART:20250330T010000
END:DAYLIGHT
BEGIN:STANDARD
TZOFFSETFROM:+0200
TZOFFSETTO:+0100
TZNAME:CET
DTSTART:20251026T010000
END:STANDARD
BEGIN:DAYLIGHT
TZOFFSETFROM:+0100
TZOFFSETTO:+0200
TZNAME:CEST
DTSTART:20260329T010000
END:DAYLIGHT
BEGIN:STANDARD
TZOFFSETFROM:+0200
TZOFFSETTO:+0100
TZNAME:CET
DTSTART:20261025T010000
END:STANDARD
BEGIN:DAYLIGHT
TZOFFSETFROM:+0100
TZOFFSETTO:+0200
TZNAME:CEST
DTSTART:20270328T010000
END:DAYLIGHT
BEGIN:STANDARD
TZOFFSETFROM:+0200
TZOFFSETTO:+0100
TZNAME:CET
DTSTART:20271031T010000
END:STANDARD
END:VTIMEZONE
BEGIN:VEVENT
DTSTART;VALUE=DATE:20260424
DTEND;VALUE=DATE:20260427
DTSTAMP:20260419T152913
CREATED:20251212T103635Z
LAST-MODIFIED:20251212T111456Z
UID:10000090-1776988800-1777247999@brainspottingaustria.com
SUMMARY:Phase 1 - Wien (Boje)
DESCRIPTION:Doppelbuchung – nur im Paket mit dem Kinderseminar im Juni – direkt bei der Boje (hier) ! \n(Das Seminarpaket ist ausschließlich auf der Webseite des Traumazentrums Boje buchbar.)  \n\n\n\nAblauf \nSeminarzeiten:\nFr: 13:30 – 20:30\nSa und So: 08:30 – 17:30 \nNachbesprechungs-Webinar: \n11. Mai\, 16:30 – 18:00 Uhr\nTeilnahme Reflektierendes Team:\n04. Mai\, 16:30 – 19:00 Uhr  \nPreis: pro Seminar 750€\, gesamt 1.500€ (Zahlung in zwei Raten möglich)\n\nBUCHUNG und sämtliche INFOS finden Sie HIER auf der Webseite der Boje! \n\nDie Teilnahme wird mit 30 Fortbildungseinheiten anerkannt (BÖP\, ÖBVP – Zertifikatausstellung bis maximal 3 Fehleinheiten!)
URL:https://brainspottingaustria.com/event/phase-1-0426-boje/
LOCATION:Die Boje (Ambulatorium)\, Hernalser Hauptstraße 15 (im Hof)\, Wien\, Wien\, 1170\, Austria
CATEGORIES:Phase 1
ATTACH;FMTTYPE=image/jpeg:https://brainspottingaustria.com/wp-content/uploads/2024/07/DSC02128-scaled-1.jpg
ORGANIZER;CN="Brainspotting Austria":MAILTO:team@brainspottingaustria.com
END:VEVENT
END:VCALENDAR