BEGIN:VCALENDAR
VERSION:2.0
PRODID:-//Brainspotting Austria - ECPv6.15.20//NONSGML v1.0//EN
CALSCALE:GREGORIAN
METHOD:PUBLISH
X-ORIGINAL-URL:https://brainspottingaustria.com
X-WR-CALDESC:Veranstaltungen für Brainspotting Austria
REFRESH-INTERVAL;VALUE=DURATION:PT1H
X-Robots-Tag:noindex
X-PUBLISHED-TTL:PT1H
BEGIN:VTIMEZONE
TZID:Europe/Vienna
BEGIN:DAYLIGHT
TZOFFSETFROM:+0100
TZOFFSETTO:+0200
TZNAME:CEST
DTSTART:20250330T010000
END:DAYLIGHT
BEGIN:STANDARD
TZOFFSETFROM:+0200
TZOFFSETTO:+0100
TZNAME:CET
DTSTART:20251026T010000
END:STANDARD
BEGIN:DAYLIGHT
TZOFFSETFROM:+0100
TZOFFSETTO:+0200
TZNAME:CEST
DTSTART:20260329T010000
END:DAYLIGHT
BEGIN:STANDARD
TZOFFSETFROM:+0200
TZOFFSETTO:+0100
TZNAME:CET
DTSTART:20261025T010000
END:STANDARD
BEGIN:DAYLIGHT
TZOFFSETFROM:+0100
TZOFFSETTO:+0200
TZNAME:CEST
DTSTART:20270328T010000
END:DAYLIGHT
BEGIN:STANDARD
TZOFFSETFROM:+0200
TZOFFSETTO:+0100
TZNAME:CET
DTSTART:20271031T010000
END:STANDARD
END:VTIMEZONE
BEGIN:VEVENT
DTSTART;TZID=Europe/Vienna:20260504T163000
DTEND;TZID=Europe/Vienna:20260504T190000
DTSTAMP:20260421T114859
CREATED:20251212T140155Z
LAST-MODIFIED:20260211T124348Z
UID:10000094-1777912200-1777921200@brainspottingaustria.com
SUMMARY:Reflektierendes Team
DESCRIPTION:Klient*in bringt folgendes Thema: wird noch ergänzt. \nWas können Teilnehmende von einem Reflektierenden Team mitnehmen? \nKlient*innen bekommen viel Anerkennung. Sie spüren die aufrichtige Zuwendung der interessierten Fachpersonen\, was ihnen das Hinschauen erleichtert. \nFachpersonen spüren die Unterstützung der Gruppe im Hintergrund\, können diese gegebenenfalls in ihr Arbeiten einbeziehen und Ideen für zukünftige Sitzungen sammeln. Der abschließende technische Austausch dient für Fragen und zur Lernerweiterung. \nAblauf \nDie Fachkraft kommt mit Klient/innen zu Monika Baumann in die Wiener Praxis.\nOder bei Online-Teilnahme sind Klient*innen in der Praxis d. Kolleg*in.\nGemeinsam wird der Rahmen für die Sitzung gesetzt.\nEigentliche Brainspotting-Sitzung mit der präsenten Gruppe im virtuellen Raum.\nKolleg*innen geben behandelten Personen positives\, emotionales Feedback (Reflecting Team).\nKlient*in wird entlassen\, Fachkräfte besprechen gemeinsam die Technik sowie individuelle Lernerfahrungen\nZeitrahmen 16:30 bis 19:00 Uhr\, drei Einheiten. \nVoraussetzung für Fachkräfte \nAnwesende müssen bei der Anmeldung bestätigen\, dass sie der Schweigepflicht unterstehen und keinerlei Aufnahmen tätigen.\nAbgeschlossenes Brainspotting Phase 1 Seminar. \nDie Teilnahme wird mit 3 Fortbildungseinheiten anerkannt (BÖP\, ÖBVP) und die Bestätigungen hierfür halbjährlich gesammelt ausgestellt.   \n  \nFür Klient*innen sind die Kosten gleich denen\, die sie auch sonst an die Fachkraft entrichten. Sie zahlen also zwei Einheiten\, wovon die Hälfte an Mag. Baumann geht. \nSollte die Fachkraft mit Klientel von anderswo nach Wien reisen\, sind die Fahrtkosten von den Einzelpersonen selbst zu tragen.  \nWollen Sie selbst Ihr Thema/Klientel ein-/mitbringen?\nSchreiben Sie uns!
URL:https://brainspottingaustria.com/event/reflektierendes-team-5-26/
CATEGORIES:Reflektierendes Team
ATTACH;FMTTYPE=image/jpeg:https://brainspottingaustria.com/wp-content/uploads/2024/07/brainspotting-reflektierendes-team-scaled.jpg
ORGANIZER;CN="Brainspotting Austria":MAILTO:team@brainspottingaustria.com
LOCATION:
END:VEVENT
END:VCALENDAR