BEGIN:VCALENDAR
VERSION:2.0
PRODID:-//Brainspotting Austria - ECPv6.15.20//NONSGML v1.0//EN
CALSCALE:GREGORIAN
METHOD:PUBLISH
X-ORIGINAL-URL:https://brainspottingaustria.com
X-WR-CALDESC:Veranstaltungen für Brainspotting Austria
REFRESH-INTERVAL;VALUE=DURATION:PT1H
X-Robots-Tag:noindex
X-PUBLISHED-TTL:PT1H
BEGIN:VTIMEZONE
TZID:Europe/Vienna
BEGIN:DAYLIGHT
TZOFFSETFROM:+0100
TZOFFSETTO:+0200
TZNAME:CEST
DTSTART:20250330T010000
END:DAYLIGHT
BEGIN:STANDARD
TZOFFSETFROM:+0200
TZOFFSETTO:+0100
TZNAME:CET
DTSTART:20251026T010000
END:STANDARD
BEGIN:DAYLIGHT
TZOFFSETFROM:+0100
TZOFFSETTO:+0200
TZNAME:CEST
DTSTART:20260329T010000
END:DAYLIGHT
BEGIN:STANDARD
TZOFFSETFROM:+0200
TZOFFSETTO:+0100
TZNAME:CET
DTSTART:20261025T010000
END:STANDARD
BEGIN:DAYLIGHT
TZOFFSETFROM:+0100
TZOFFSETTO:+0200
TZNAME:CEST
DTSTART:20270328T010000
END:DAYLIGHT
BEGIN:STANDARD
TZOFFSETFROM:+0200
TZOFFSETTO:+0100
TZNAME:CET
DTSTART:20271031T010000
END:STANDARD
END:VTIMEZONE
BEGIN:VEVENT
DTSTART;TZID=Europe/Vienna:20260218T170000
DTEND;TZID=Europe/Vienna:20260218T183000
DTSTAMP:20260420T114623
CREATED:20251218T152341Z
LAST-MODIFIED:20260216T124241Z
UID:10000097-1771434000-1771439400@brainspottingaustria.com
SUMMARY:Webinar - Baumann | BSP – so viel mehr als ausschließlich Traumatherapie
DESCRIPTION:In diesem Webinar beleuchtet Monika Baumann die Entwicklungsgeschichte der Methode Brainspotting: Einst Traumatherapie\, mittlerweile fixer Bestandteil in weltweit aufgestellten Werkzeugkoffern\, um Menschen zu unterstützen\, die ihr (kreatives\, sportliches\, geschäftliches) Potenzial erweitern wollen oder ihre Persönlichkeitsentwicklung voranbringen möchten. Es sind nicht immer Traumata\, die uns im Alltag „bremsen“! \nDieses Webinar wird (ohne Präsentation) sehr interaktiv und interdisziplinär\, also eigentlich eher ein Mini-Workshop. Unter anderem werden Teilnehmende Übungen dazu machen\, wie man Brainspotting am Telefon anwenden oder wie man die Methode in einem Erstgespräch subtil integrieren kann. \nMehr über die Vortragende finden Sie hier. \nDieses Webinar wird nicht aufgezeichnet.  \nZeit:\n17:00 – 18:30 Uhr \nVoraussetzung für Fachleute:\nSie haben bereits das Brainspotting Phase 1 Training absolviert.
URL:https://brainspottingaustria.com/event/webinar-bsp-mehr-als-traumatherapie/
CATEGORIES:Webinare
ATTACH;FMTTYPE=image/png:https://brainspottingaustria.com/wp-content/uploads/2025/12/Webinar_0226_Baumann_BSP-mehr-als-Traumamethode_v2.png
ORGANIZER;CN="Brainspotting Austria":MAILTO:team@brainspottingaustria.com
LOCATION:https://brainspottingaustria.com/event/webinar-bsp-mehr-als-traumatherapie/
END:VEVENT
END:VCALENDAR