BEGIN:VCALENDAR
VERSION:2.0
PRODID:-//Brainspotting Austria - ECPv6.15.20//NONSGML v1.0//EN
CALSCALE:GREGORIAN
METHOD:PUBLISH
X-ORIGINAL-URL:https://brainspottingaustria.com
X-WR-CALDESC:Veranstaltungen für Brainspotting Austria
REFRESH-INTERVAL;VALUE=DURATION:PT1H
X-Robots-Tag:noindex
X-PUBLISHED-TTL:PT1H
BEGIN:VTIMEZONE
TZID:Europe/Vienna
BEGIN:DAYLIGHT
TZOFFSETFROM:+0100
TZOFFSETTO:+0200
TZNAME:CEST
DTSTART:20240331T010000
END:DAYLIGHT
BEGIN:STANDARD
TZOFFSETFROM:+0200
TZOFFSETTO:+0100
TZNAME:CET
DTSTART:20241027T010000
END:STANDARD
BEGIN:DAYLIGHT
TZOFFSETFROM:+0100
TZOFFSETTO:+0200
TZNAME:CEST
DTSTART:20250330T010000
END:DAYLIGHT
BEGIN:STANDARD
TZOFFSETFROM:+0200
TZOFFSETTO:+0100
TZNAME:CET
DTSTART:20251026T010000
END:STANDARD
BEGIN:DAYLIGHT
TZOFFSETFROM:+0100
TZOFFSETTO:+0200
TZNAME:CEST
DTSTART:20260329T010000
END:DAYLIGHT
BEGIN:STANDARD
TZOFFSETFROM:+0200
TZOFFSETTO:+0100
TZNAME:CET
DTSTART:20261025T010000
END:STANDARD
END:VTIMEZONE
BEGIN:VEVENT
DTSTART;VALUE=DATE:20250914
DTEND;VALUE=DATE:20250919
DTSTAMP:20260420T200431
CREATED:20240818T115219Z
LAST-MODIFIED:20241016T175458Z
UID:10000025-1757808000-1758239999@brainspottingaustria.com
SUMMARY:Brainspotting – Intensiv
DESCRIPTION:​10 Behandler*innen arbeiten 5 Tage lang eng gemeinsam; \neinmal als Behandler*in und einmal als Klient*in\, immer mit der Trainerin als Co-Therapeutin. \nDie Prozesse werden genau analysiert\, wodurch sowohl emotional als auch technisch Brainspotting aus einer ganz speziellen Perspektive gelehrt und erfahren wird. \nVoraussetzung: Bereits absolviertes Phase 1 | Phase 2 Seminar ausdrücklich empfohlen\nAlle Details zu Voraussetzungen und Bedingungen finden Sie hier. \n \nDie Teilnahme wird mit 40 Fortbildungseinheiten anerkannt (BÖP\, ÖBVP). \nSeminarzeiten: ca. 09:30 – 18:00 Uhr\n(Mittagspause von meist ca. 90 Minuten\, dem Seminarverlauf nach flexibel)
URL:https://brainspottingaustria.com/event/brainspotting-intensiv-sept-2025/
LOCATION:Häuplhof\, Mühlbach 1\, Attersee am Attersee\, 4864\, Österreich
CATEGORIES:Brainspotting Intensiv
ATTACH;FMTTYPE=image/jpeg:https://brainspottingaustria.com/wp-content/uploads/2024/07/brainspotting-intensiv-scaled.jpg
ORGANIZER;CN="Brainspotting Austria":MAILTO:team@brainspottingaustria.com
END:VEVENT
END:VCALENDAR