BEGIN:VCALENDAR
VERSION:2.0
PRODID:-//Brainspotting Austria - ECPv6.15.20//NONSGML v1.0//EN
CALSCALE:GREGORIAN
METHOD:PUBLISH
X-ORIGINAL-URL:https://brainspottingaustria.com
X-WR-CALDESC:Veranstaltungen für Brainspotting Austria
REFRESH-INTERVAL;VALUE=DURATION:PT1H
X-Robots-Tag:noindex
X-PUBLISHED-TTL:PT1H
BEGIN:VTIMEZONE
TZID:Europe/Vienna
BEGIN:DAYLIGHT
TZOFFSETFROM:+0100
TZOFFSETTO:+0200
TZNAME:CEST
DTSTART:20240331T010000
END:DAYLIGHT
BEGIN:STANDARD
TZOFFSETFROM:+0200
TZOFFSETTO:+0100
TZNAME:CET
DTSTART:20241027T010000
END:STANDARD
BEGIN:DAYLIGHT
TZOFFSETFROM:+0100
TZOFFSETTO:+0200
TZNAME:CEST
DTSTART:20250330T010000
END:DAYLIGHT
BEGIN:STANDARD
TZOFFSETFROM:+0200
TZOFFSETTO:+0100
TZNAME:CET
DTSTART:20251026T010000
END:STANDARD
BEGIN:DAYLIGHT
TZOFFSETFROM:+0100
TZOFFSETTO:+0200
TZNAME:CEST
DTSTART:20260329T010000
END:DAYLIGHT
BEGIN:STANDARD
TZOFFSETFROM:+0200
TZOFFSETTO:+0100
TZNAME:CET
DTSTART:20261025T010000
END:STANDARD
END:VTIMEZONE
BEGIN:VEVENT
DTSTART;VALUE=DATE:20250116
DTEND;VALUE=DATE:20250119
DTSTAMP:20260424T035015
CREATED:20240713T071726Z
LAST-MODIFIED:20241016T174920Z
UID:10000005-1736985600-1737244799@brainspottingaustria.com
SUMMARY:Phase 2
DESCRIPTION:Nachbesprechung: 27. Jän.\, 16:30 Uhr || Reflektierendes Team: 12. Feb\, 16:30 Uhr \nWas können Teilnehmende vom Phase 2 Seminar mitnehmen? \nDurch PowerPoint-Präsentation\, Diskussion mit Q&A\, Demonstrationen und Übungen lernen die Teilnehmer*innen in diesem Fortgeschrittenenseminar Folgendes: ​ \n\nWiederholung von Äußerem & Innerem Fenster sowie Gazespotting\, Schwerpunkt auf klinischer Interaktion mit Klient*innen\nzusätzliche\, fortgeschrittene Techniken (X-Y-Z-Achse\, Rolling Brainspotting\, Ein-Auge-Brainspotting\, fortgeschrittenes Ressourcenmodell) lernen\n\n  \nInhalt \nDiese Ausbildung beginnt mit einer ausführlichen Wiederholung von Brainspotting im Äußeren/Inneren Fenster und Gazespotting\, wobei der Schwerpunkt darauf liegt\, wie man klinisch mit Klient*innen interagiert. \nDie Auszubildenden werden in mehrere wichtige Anwendungen eingeführt. Dies hat auch das Ein-Auge-Brainspotting\, einschließlich der Verwendung einer Ein-Augen-Brille zum Inhalt. Außerdem wird 3-Dimensionales Brainspotting unter Verwendung der „Z-Achse“ von nah und fern gelehrt\, dies beinhaltet die Konvergenz-Therapie\, die die Z-Achse erweitert\, um den Vagusnerv durch den Augenherzreflex zu aktivieren. \nZusätzliche technische Raffinessen werden vorgestellt\, darunter „Rolling Brainspotting“\, bei dem die langsame Augenverfolgung für jeden Brainspot kurz anhält. \nFortgeschrittene Techniken umfassen auch das kombinierte Innen-Außen-Brainspotting\, bei dem sowohl reflexive Reaktionen als auch das Gefühl für höchste Aktivierung der Klient*innen zusammen verwendet werden\, um Brainspots zu finden. \nTag 3 wird der zweiten Ebene des Fortgeschrittenen Ressourcenmodells gewidmet. Es geht hier um die Kombination der Ressourcenaspekte von Ein-Auge- und Z-Achsen-Brainspotting. Dies ist vor allem für die Arbeit mit Klient*innen mit sehr komplexen PTBS und jenen außerhalb des Brainspotting-Toleranzfensters wichtig.​ \nDie Teilnahme wird mit 30 Fortbildungseinheiten anerkannt (BÖP\, ÖBVP). \n  \n\nNachbetreuung: \n\n\nIm Anschluss an die Brainspotting-Weiterbildung bieten wir Absolvent*innen ein eineinhalbstündiges Online-Arbeitstreffen sowie eine Teilnahme am nächsten Reflektierenden Team kostenlos an.\n\nDiese Nachbetreuungstermine von Brainspotting Austria helfen Teilnehmer*innen\, das Gelernte aus dem Phase2 Seminar gut in die Praxis zu integrieren. Die Termine sind obligatorische Teile des Kurses.\n\n\n\n\n\n\n  \n\n\nAblauf \nSeminarzeiten: 08:30-12:30 und 14:00-17:30 Uhr \nAnwendungs-Webinar: \n27. Jän.\, 16:30 – 18:00 Uhr\nTeilnahme Reflektierendes Team:\n12. Feb.\, 16:30 bis 19:00 Uhr  \n  \nVoraussetzung für Fachkräfte \nBereits absolviertes Phase 1 Seminar.\nAlle Details zu Voraussetzungen und Bedingungen finden Sie hier.\nAnwesende bestätigen mit der Anmeldung\, dass sie der Schweigepflicht unterstehen und keinerlei Aufnahmen tätigen. \nWenn Ihre Brainspotting-Ausbildung noch das zweitägige Phase2-Seminar umfasst hat\, können Sie den Kurs zum halben Preis buchen. Ratenzahlungen sind möglich. Schreiben Sie uns für beide Fälle bitte eine eMail!\nPreisanpassung ab 2025: Nachdem wir nun mehrere Jahre keine Indexierung vorgenommen haben\, kommen wir um kostendeckend zu bleiben\, nun nicht mehr darum herum.\nPreise erhöhen sich im letzten Monat vor einem Seminar um €25.
URL:https://brainspottingaustria.com/event/phase-2-jaenner-2025/
LOCATION:Seminarraum 1140\, Penzinger Straße 48\, Wien\, 1140\, Österreich
CATEGORIES:Phase 2
ATTACH;FMTTYPE=image/jpeg:https://brainspottingaustria.com/wp-content/uploads/2024/07/DSC02144a-scaled-1.jpg
ORGANIZER;CN="Brainspotting Austria":MAILTO:team@brainspottingaustria.com
END:VEVENT
END:VCALENDAR