BEGIN:VCALENDAR
VERSION:2.0
PRODID:-//Brainspotting Austria - ECPv6.15.20//NONSGML v1.0//EN
CALSCALE:GREGORIAN
METHOD:PUBLISH
X-WR-CALNAME:Brainspotting Austria
X-ORIGINAL-URL:https://brainspottingaustria.com
X-WR-CALDESC:Veranstaltungen für Brainspotting Austria
REFRESH-INTERVAL;VALUE=DURATION:PT1H
X-Robots-Tag:noindex
X-PUBLISHED-TTL:PT1H
BEGIN:VTIMEZONE
TZID:Europe/Vienna
BEGIN:DAYLIGHT
TZOFFSETFROM:+0100
TZOFFSETTO:+0200
TZNAME:CEST
DTSTART:20230326T010000
END:DAYLIGHT
BEGIN:STANDARD
TZOFFSETFROM:+0200
TZOFFSETTO:+0100
TZNAME:CET
DTSTART:20231029T010000
END:STANDARD
BEGIN:DAYLIGHT
TZOFFSETFROM:+0100
TZOFFSETTO:+0200
TZNAME:CEST
DTSTART:20240331T010000
END:DAYLIGHT
BEGIN:STANDARD
TZOFFSETFROM:+0200
TZOFFSETTO:+0100
TZNAME:CET
DTSTART:20241027T010000
END:STANDARD
BEGIN:DAYLIGHT
TZOFFSETFROM:+0100
TZOFFSETTO:+0200
TZNAME:CEST
DTSTART:20250330T010000
END:DAYLIGHT
BEGIN:STANDARD
TZOFFSETFROM:+0200
TZOFFSETTO:+0100
TZNAME:CET
DTSTART:20251026T010000
END:STANDARD
END:VTIMEZONE
BEGIN:VEVENT
DTSTART;VALUE=DATE:20241206
DTEND;VALUE=DATE:20241209
DTSTAMP:20260423T144602
CREATED:20240715T082447Z
LAST-MODIFIED:20241016T175700Z
UID:10000008-1733443200-1733702399@brainspottingaustria.com
SUMMARY:NEM Masterclass
DESCRIPTION:David Grand – unternimmt derzeit keine Reisen für Ausbildungen – wird nicht persönlich in Wien anwesend sein. Die Live-Schaltung nach New York bringt ihn uns und den anderen Teilnehmenden in Europa allerdings ganz nah.  \nDie Premiere dieser neuartigen dreitägigen Meisterklasse eröffnet Brainspotting-Behandler*innen die Möglichkeit\, die Methode so zu erfahren\, wie David Grand sie lebt. Das bereichernde multikulturelle Setting wird durch den organisatorischen Zusammenschluss von Brainspotting-Vertretungen quer durch Europa und Südamerika möglich. \nDr. Grand ist seit der Entdeckung von Brainspotting stets neugierig geblieben\, was die offene und freie Methode – wohl noch – in sich birgt und daran interessiert\, ihre Wirkfaktoren auf einer subkortikalen Ebene zu erspüren. 2021 hat er das Neuroexperienzielle Modell für die zweite internationale Konferenz verschriftlich und erstmals vorgestellt. Das NEM-Modell stellt heute eine wesentliche und wegweisende Komponente in seinem Arbeiten dar. Er verwebt darin westliche und östliche Heilungsanschauungen integrativ miteinander\, um bestmögliche Ergebnisse für und mit Klient*innen zu erzielen. \nIn dieser Meisterklasse wird er seine tiefgreifenden Ideen zunächst auf theoretischer Basis mit uns teilen. In Folge spannt er den Bogen zur Praxis\, indem er mit freiwilligen Teilnehmer*innen an ihrer Geschichte arbeitet bzw. Kolleg*innen im Rollenspiel in die Schuhe ihrer Klient*innen schlüpfen dürfen\, und er durch die Demo einen neuroexperienziellen Brainspotting-Zugang veranschaulicht. \nNach dem Zeigen der Praxis wird er den Kreis schließen\, indem er gewisse theoretische Inhalte herausgreift und an diese angelehnt auf Fragen eingeht (Q&A). \nBegriffe und Inhalte\, die vorkommen werden: \n\nSensorisches Gating (Torhüterschaft der Sinne; sensory gating)\nErfahrungen mit Flashbacks\nDissoziation als Chance (Dissoziative Adaptierung)\nden Rahmen unserer Klient*innen neu stecken\nu.v.m.\n\nMindestanforderung: bereits absolviertes Brainspotting Phase 1.\nAlle Details zu Voraussetzungen und Bedingungen finden Sie hier.  \n\nSeminarzeiten:  13:00 – 22:00 Uhr (1h Pause nach der Hälfte) \nDie Teilnahme wird mit 28 Fortbildungseinheiten anerkannt (BÖP\, ÖBVP). \nDen zugehörigen Flyer können Sie sich hier anschauen.
URL:https://brainspottingaustria.com/event/nem-masterclass/
LOCATION:Seminarraum 1140\, Penzinger Straße 48\, Wien\, 1140\, Österreich
CATEGORIES:Masterclass
ATTACH;FMTTYPE=image/png:https://brainspottingaustria.com/wp-content/uploads/2024/07/NEM-Masterclass_1224_Flyer_BSP-AT_Deutsch_website.png
ORGANIZER;CN="Brainspotting Austria":MAILTO:team@brainspottingaustria.com
END:VEVENT
END:VCALENDAR